BEGIN:VCALENDAR
VERSION:2.0
PRODID:-//First Baptist Church of Gibsonville North Carolina - ECPv6.15.18//NONSGML v1.0//EN
CALSCALE:GREGORIAN
METHOD:PUBLISH
X-WR-CALNAME:First Baptist Church of Gibsonville North Carolina
X-ORIGINAL-URL:https://fbcgibsonville.org
X-WR-CALDESC:Events for First Baptist Church of Gibsonville North Carolina
REFRESH-INTERVAL;VALUE=DURATION:PT1H
X-Robots-Tag:noindex
X-PUBLISHED-TTL:PT1H
BEGIN:VTIMEZONE
TZID:UTC
BEGIN:STANDARD
TZOFFSETFROM:+0000
TZOFFSETTO:+0000
TZNAME:UTC
DTSTART:20240101T000000
END:STANDARD
END:VTIMEZONE
BEGIN:VEVENT
DTSTART;VALUE=DATE:20250622
DTEND;VALUE=DATE:20250627
DTSTAMP:20260426T033211
CREATED:20250624T181010Z
LAST-MODIFIED:20260313T144137Z
UID:16579-1750550400-1750982399@fbcgibsonville.org
SUMMARY:YOUTH CAMP GO TELL @ Liberty University
DESCRIPTION:SEE ANY OF OUR YOUTH LEADERS IF YOU HAVE ANY QUESTIONS!  PRAY FOR OUR LEADERS AND TEENS TO HAVE A GREAT WEEK OF SPIRITUAL GROWTH! \n  \n 
URL:https://fbcgibsonville.org/event/youth-camp-crossroads/
END:VEVENT
BEGIN:VEVENT
DTSTART;TZID=UTC:20250622T163000
DTEND;TZID=UTC:20250622T163000
DTSTAMP:20260426T033211
CREATED:20250608T025615Z
LAST-MODIFIED:20250608T025615Z
UID:16566-1750609800-1750609800@fbcgibsonville.org
SUMMARY:Youth Camp Meeting
DESCRIPTION:Meeting with leaders to discuss & finalize Youth Camp
URL:https://fbcgibsonville.org/event/youth-camp-meeting-2/
END:VEVENT
END:VCALENDAR