BEGIN:VCALENDAR
VERSION:2.0
PRODID:-//First Baptist Church of Gibsonville North Carolina - ECPv6.15.18//NONSGML v1.0//EN
CALSCALE:GREGORIAN
METHOD:PUBLISH
X-WR-CALNAME:First Baptist Church of Gibsonville North Carolina
X-ORIGINAL-URL:https://fbcgibsonville.org
X-WR-CALDESC:Events for First Baptist Church of Gibsonville North Carolina
REFRESH-INTERVAL;VALUE=DURATION:PT1H
X-Robots-Tag:noindex
X-PUBLISHED-TTL:PT1H
BEGIN:VTIMEZONE
TZID:UTC
BEGIN:STANDARD
TZOFFSETFROM:+0000
TZOFFSETTO:+0000
TZNAME:UTC
DTSTART:20240101T000000
END:STANDARD
END:VTIMEZONE
BEGIN:VEVENT
DTSTART;VALUE=DATE:20250707
DTEND;VALUE=DATE:20250708
DTSTAMP:20260426T022202
CREATED:20250520T155742Z
LAST-MODIFIED:20250520T173721Z
UID:16508-1751846400-1751932799@fbcgibsonville.org
SUMMARY:YOUTH CAMP REGISTER & PAY
DESCRIPTION:CROSSROADS YOUTH CAMP REGISTRATION \n \n  \n  \n  \nQUESTIONS?  See Missy May or JD Weed \nPAYMENT OPTION SCAN QR CODE
URL:https://fbcgibsonville.org/event/youth-camp-4/
END:VEVENT
END:VCALENDAR