BEGIN:VCALENDAR
VERSION:2.0
PRODID:-//First Baptist Church of Gibsonville North Carolina - ECPv6.15.18//NONSGML v1.0//EN
CALSCALE:GREGORIAN
METHOD:PUBLISH
X-ORIGINAL-URL:https://fbcgibsonville.org
X-WR-CALDESC:Events for First Baptist Church of Gibsonville North Carolina
REFRESH-INTERVAL;VALUE=DURATION:PT1H
X-Robots-Tag:noindex
X-PUBLISHED-TTL:PT1H
BEGIN:VTIMEZONE
TZID:UTC
BEGIN:STANDARD
TZOFFSETFROM:+0000
TZOFFSETTO:+0000
TZNAME:UTC
DTSTART:20240101T000000
END:STANDARD
END:VTIMEZONE
BEGIN:VEVENT
DTSTART;TZID=UTC:20250803T113000
DTEND;TZID=UTC:20250803T113000
DTSTAMP:20260426T011227
CREATED:20250801T132050Z
LAST-MODIFIED:20250801T132050Z
UID:16604-1754220600-1754220600@fbcgibsonville.org
SUMMARY:Youth Girls Bible Study
DESCRIPTION:See Missy May for details – meet after our morning service in fellowship hall
URL:https://fbcgibsonville.org/event/youth-girls-bible-study/
END:VEVENT
BEGIN:VEVENT
DTSTART;TZID=UTC:20250803T180000
DTEND;TZID=UTC:20250803T180000
DTSTAMP:20260426T011227
CREATED:20250702T175918Z
LAST-MODIFIED:20250801T131550Z
UID:16589-1754244000-1754244000@fbcgibsonville.org
SUMMARY:DEACON'S MEETING
DESCRIPTION:DEACON’S MEETINGS ARE ON THE 1ST SUNDAY OF THE MONTH UNLESS THERE IS A NEED TO RESCHEDULE.
URL:https://fbcgibsonville.org/event/deacons-meeting-37/
END:VEVENT
END:VCALENDAR