BEGIN:VCALENDAR
VERSION:2.0
PRODID:-//First Baptist Church of Gibsonville North Carolina - ECPv6.15.18//NONSGML v1.0//EN
CALSCALE:GREGORIAN
METHOD:PUBLISH
X-WR-CALNAME:First Baptist Church of Gibsonville North Carolina
X-ORIGINAL-URL:https://fbcgibsonville.org
X-WR-CALDESC:Events for First Baptist Church of Gibsonville North Carolina
REFRESH-INTERVAL;VALUE=DURATION:PT1H
X-Robots-Tag:noindex
X-PUBLISHED-TTL:PT1H
BEGIN:VTIMEZONE
TZID:UTC
BEGIN:STANDARD
TZOFFSETFROM:+0000
TZOFFSETTO:+0000
TZNAME:UTC
DTSTART:20240101T000000
END:STANDARD
END:VTIMEZONE
BEGIN:VEVENT
DTSTART;TZID=UTC:20250824T103000
DTEND;TZID=UTC:20250824T103000
DTSTAMP:20260426T011220
CREATED:20250801T132839Z
LAST-MODIFIED:20250801T132839Z
UID:16608-1756031400-1756031400@fbcgibsonville.org
SUMMARY:Vote on New Deacons
DESCRIPTION:We will vote on recommendations for Deacons by ballot during our morning service.
URL:https://fbcgibsonville.org/event/vote-on-new-deacons/
END:VEVENT
BEGIN:VEVENT
DTSTART;TZID=UTC:20250824T170000
DTEND;TZID=UTC:20250824T180000
DTSTAMP:20260426T011220
CREATED:20220816T181332Z
LAST-MODIFIED:20250801T133000Z
UID:15936-1756054800-1756058400@fbcgibsonville.org
SUMMARY:ICE CREAM SOCIAL
DESCRIPTION:Bring your favorite homemade ice-cream and join us for a time for fun fellowship!  Questions please see Franki Younger or call the church office. \n  \n  \n  \n 
URL:https://fbcgibsonville.org/event/ice-cream-social-3/
END:VEVENT
END:VCALENDAR