BEGIN:VCALENDAR
VERSION:2.0
PRODID:-//First Baptist Church of Gibsonville North Carolina - ECPv6.15.18//NONSGML v1.0//EN
CALSCALE:GREGORIAN
METHOD:PUBLISH
X-ORIGINAL-URL:https://fbcgibsonville.org
X-WR-CALDESC:Events for First Baptist Church of Gibsonville North Carolina
REFRESH-INTERVAL;VALUE=DURATION:PT1H
X-Robots-Tag:noindex
X-PUBLISHED-TTL:PT1H
BEGIN:VTIMEZONE
TZID:UTC
BEGIN:STANDARD
TZOFFSETFROM:+0000
TZOFFSETTO:+0000
TZNAME:UTC
DTSTART:20240101T000000
END:STANDARD
END:VTIMEZONE
BEGIN:VEVENT
DTSTART;VALUE=DATE:20250911
DTEND;VALUE=DATE:20250912
DTSTAMP:20260426T000148
CREATED:20250911T174510Z
LAST-MODIFIED:20250911T174510Z
UID:16625-1757548800-1757635199@fbcgibsonville.org
SUMMARY:Serve NC @ Baptist Children's Home
DESCRIPTION:See JD for details…
URL:https://fbcgibsonville.org/event/serve-nc-baptist-childrens-home/
END:VEVENT
END:VCALENDAR