BEGIN:VCALENDAR
VERSION:2.0
PRODID:-//First Baptist Church of Gibsonville North Carolina - ECPv6.15.18//NONSGML v1.0//EN
CALSCALE:GREGORIAN
METHOD:PUBLISH
X-ORIGINAL-URL:https://fbcgibsonville.org
X-WR-CALDESC:Events for First Baptist Church of Gibsonville North Carolina
REFRESH-INTERVAL;VALUE=DURATION:PT1H
X-Robots-Tag:noindex
X-PUBLISHED-TTL:PT1H
BEGIN:VTIMEZONE
TZID:UTC
BEGIN:STANDARD
TZOFFSETFROM:+0000
TZOFFSETTO:+0000
TZNAME:UTC
DTSTART:20240101T000000
END:STANDARD
END:VTIMEZONE
BEGIN:VEVENT
DTSTART;TZID=UTC:20250921T170000
DTEND;TZID=UTC:20250921T170000
DTSTAMP:20260426T000436
CREATED:20250801T133231Z
LAST-MODIFIED:20250801T133231Z
UID:16611-1758474000-1758474000@fbcgibsonville.org
SUMMARY:Sunday School Teacher's Training
DESCRIPTION:See Pastor JD for details….
URL:https://fbcgibsonville.org/event/sunday-school-teachers-training/
END:VEVENT
END:VCALENDAR