BEGIN:VCALENDAR
VERSION:2.0
PRODID:-//First Baptist Church of Gibsonville North Carolina - ECPv6.15.18//NONSGML v1.0//EN
CALSCALE:GREGORIAN
METHOD:PUBLISH
X-ORIGINAL-URL:https://fbcgibsonville.org
X-WR-CALDESC:Events for First Baptist Church of Gibsonville North Carolina
REFRESH-INTERVAL;VALUE=DURATION:PT1H
X-Robots-Tag:noindex
X-PUBLISHED-TTL:PT1H
BEGIN:VTIMEZONE
TZID:UTC
BEGIN:STANDARD
TZOFFSETFROM:+0000
TZOFFSETTO:+0000
TZNAME:UTC
DTSTART:20240101T000000
END:STANDARD
END:VTIMEZONE
BEGIN:VEVENT
DTSTART;TZID=UTC:20251012T091500
DTEND;TZID=UTC:20251012T100000
DTSTAMP:20260425T224458
CREATED:20250924T180704Z
LAST-MODIFIED:20250924T180704Z
UID:16644-1760260500-1760263200@fbcgibsonville.org
SUMMARY:MISSION REPORT during Sunday School hour
DESCRIPTION:Join us today to hear all about the Mission Trip to Africa @ 9:15am \n 
URL:https://fbcgibsonville.org/event/mission-report-during-sunday-school-hour/
END:VEVENT
END:VCALENDAR