BEGIN:VCALENDAR
VERSION:2.0
PRODID:-//First Baptist Church of Gibsonville North Carolina - ECPv6.15.18//NONSGML v1.0//EN
CALSCALE:GREGORIAN
METHOD:PUBLISH
X-ORIGINAL-URL:https://fbcgibsonville.org
X-WR-CALDESC:Events for First Baptist Church of Gibsonville North Carolina
REFRESH-INTERVAL;VALUE=DURATION:PT1H
X-Robots-Tag:noindex
X-PUBLISHED-TTL:PT1H
BEGIN:VTIMEZONE
TZID:UTC
BEGIN:STANDARD
TZOFFSETFROM:+0000
TZOFFSETTO:+0000
TZNAME:UTC
DTSTART:20240101T000000
END:STANDARD
END:VTIMEZONE
BEGIN:VEVENT
DTSTART;VALUE=DATE:20251102
DTEND;VALUE=DATE:20251103
DTSTAMP:20260425T213010
CREATED:20251016T150326Z
LAST-MODIFIED:20251016T150326Z
UID:16682-1762041600-1762127999@fbcgibsonville.org
SUMMARY:2026 BUDGET REQUEST FORMS DUE
DESCRIPTION:Committee leaders please have your 2026 Budget requests in to the office by today.
URL:https://fbcgibsonville.org/event/2026-budget-request-forms-due/
END:VEVENT
BEGIN:VEVENT
DTSTART;TZID=UTC:20251102T170000
DTEND;TZID=UTC:20251102T170000
DTSTAMP:20260425T213010
CREATED:20251016T144208Z
LAST-MODIFIED:20251016T144208Z
UID:16676-1762102800-1762102800@fbcgibsonville.org
SUMMARY:LEADERSHIP TEAM MEETING
DESCRIPTION:ALL LEADERSHIP TEAM MEETINGS ARE ON THE 1ST SUNDAY OF EACH MONTH UNLESS RESCHEDULED. \n 
URL:https://fbcgibsonville.org/event/leadership-team-meeting-36/
END:VEVENT
END:VCALENDAR