BEGIN:VCALENDAR
VERSION:2.0
PRODID:-//First Baptist Church of Gibsonville North Carolina - ECPv6.15.18//NONSGML v1.0//EN
CALSCALE:GREGORIAN
METHOD:PUBLISH
X-WR-CALNAME:First Baptist Church of Gibsonville North Carolina
X-ORIGINAL-URL:https://fbcgibsonville.org
X-WR-CALDESC:Events for First Baptist Church of Gibsonville North Carolina
REFRESH-INTERVAL;VALUE=DURATION:PT1H
X-Robots-Tag:noindex
X-PUBLISHED-TTL:PT1H
BEGIN:VTIMEZONE
TZID:UTC
BEGIN:STANDARD
TZOFFSETFROM:+0000
TZOFFSETTO:+0000
TZNAME:UTC
DTSTART:20240101T000000
END:STANDARD
END:VTIMEZONE
BEGIN:VEVENT
DTSTART;TZID=UTC:20251214T103000
DTEND;TZID=UTC:20251214T103000
DTSTAMP:20260425T200902
CREATED:20221013T164059Z
LAST-MODIFIED:20251016T144842Z
UID:15949-1765708200-1765708200@fbcgibsonville.org
SUMMARY:CHILDREN'S CHRISTMAS PROGRAM
DESCRIPTION:Join us for our Children’s Christmas Program
URL:https://fbcgibsonville.org/event/childrens-christmas-program/
END:VEVENT
END:VCALENDAR