BEGIN:VCALENDAR
VERSION:2.0
PRODID:-//First Baptist Church of Gibsonville North Carolina - ECPv6.15.18//NONSGML v1.0//EN
CALSCALE:GREGORIAN
METHOD:PUBLISH
X-WR-CALNAME:First Baptist Church of Gibsonville North Carolina
X-ORIGINAL-URL:https://fbcgibsonville.org
X-WR-CALDESC:Events for First Baptist Church of Gibsonville North Carolina
REFRESH-INTERVAL;VALUE=DURATION:PT1H
X-Robots-Tag:noindex
X-PUBLISHED-TTL:PT1H
BEGIN:VTIMEZONE
TZID:UTC
BEGIN:STANDARD
TZOFFSETFROM:+0000
TZOFFSETTO:+0000
TZNAME:UTC
DTSTART:20250101T000000
END:STANDARD
END:VTIMEZONE
BEGIN:VEVENT
DTSTART;TZID=UTC:20260122T120000
DTEND;TZID=UTC:20260122T120000
DTSTAMP:20260425T185201
CREATED:20260116T145904Z
LAST-MODIFIED:20260116T145904Z
UID:16717-1769083200-1769083200@fbcgibsonville.org
SUMMARY:Senior Adult Lunch & BINGO
DESCRIPTION:Join us for a great time of fun & fellowship!
URL:https://fbcgibsonville.org/event/senior-adult-lunch-bingo/
END:VEVENT
END:VCALENDAR