BEGIN:VCALENDAR
VERSION:2.0
PRODID:-//First Baptist Church of Gibsonville North Carolina - ECPv6.15.18//NONSGML v1.0//EN
CALSCALE:GREGORIAN
METHOD:PUBLISH
X-ORIGINAL-URL:https://fbcgibsonville.org
X-WR-CALDESC:Events for First Baptist Church of Gibsonville North Carolina
REFRESH-INTERVAL;VALUE=DURATION:PT1H
X-Robots-Tag:noindex
X-PUBLISHED-TTL:PT1H
BEGIN:VTIMEZONE
TZID:UTC
BEGIN:STANDARD
TZOFFSETFROM:+0000
TZOFFSETTO:+0000
TZNAME:UTC
DTSTART:20250101T000000
END:STANDARD
END:VTIMEZONE
BEGIN:VEVENT
DTSTART;TZID=UTC:20260228T083000
DTEND;TZID=UTC:20260228T083000
DTSTAMP:20260425T170939
CREATED:20260116T150732Z
LAST-MODIFIED:20260116T151616Z
UID:16727-1772267400-1772267400@fbcgibsonville.org
SUMMARY:MEN'S BREAKFAST 7:30am cook  8:30am eat
DESCRIPTION:FOR THOSE MEN WHO ENJOY COOKING PLEASE BE HERE AT 7:30AM \nWE WILL PLAN TO EAT BREAKFAST AT 8:30AM
URL:https://fbcgibsonville.org/event/mens-breakfast-730am-cook-800am-eat/
END:VEVENT
END:VCALENDAR