BEGIN:VCALENDAR
VERSION:2.0
PRODID:-//First Baptist Church of Gibsonville North Carolina - ECPv6.15.18//NONSGML v1.0//EN
CALSCALE:GREGORIAN
METHOD:PUBLISH
X-WR-CALNAME:First Baptist Church of Gibsonville North Carolina
X-ORIGINAL-URL:https://fbcgibsonville.org
X-WR-CALDESC:Events for First Baptist Church of Gibsonville North Carolina
REFRESH-INTERVAL;VALUE=DURATION:PT1H
X-Robots-Tag:noindex
X-PUBLISHED-TTL:PT1H
BEGIN:VTIMEZONE
TZID:UTC
BEGIN:STANDARD
TZOFFSETFROM:+0000
TZOFFSETTO:+0000
TZNAME:UTC
DTSTART:20250101T000000
END:STANDARD
END:VTIMEZONE
BEGIN:VEVENT
DTSTART;TZID=UTC:20260412T150000
DTEND;TZID=UTC:20260412T150000
DTSTAMP:20260425T144725
CREATED:20260220T151348Z
LAST-MODIFIED:20260410T171952Z
UID:16771-1776006000-1776006000@fbcgibsonville.org
SUMMARY:LEADERSHIP TEAM MEETING
DESCRIPTION:ALL LEADERSHIP TEAM MEETINGS ARE ON THE 1ST SUNDAY OF EACH MONTH UNLESS RESCHEDULED. \n 
URL:https://fbcgibsonville.org/event/leadership-team-meeting-39/
LOCATION:HOPE CORNER FOOD PANTRY / CLOTHING CLOSET   9-11am\, 103 Burlington Ave.\, Gibsonville\, 27249\, United States
END:VEVENT
BEGIN:VEVENT
DTSTART;TZID=UTC:20260412T160000
DTEND;TZID=UTC:20260412T180000
DTSTAMP:20260425T144725
CREATED:20260220T151251Z
LAST-MODIFIED:20260410T173836Z
UID:16769-1776009600-1776016800@fbcgibsonville.org
SUMMARY:DEACON'S MEETING
DESCRIPTION:DEACON’S MEETINGS ARE ON THE 1ST SUNDAY OF THE MONTH UNLESS THERE IS A NEED TO RESCHEDULE.
URL:https://fbcgibsonville.org/event/deacons-meeting-40/
END:VEVENT
END:VCALENDAR