BEGIN:VCALENDAR
VERSION:2.0
PRODID:-//First Baptist Church of Gibsonville North Carolina - ECPv6.15.18//NONSGML v1.0//EN
CALSCALE:GREGORIAN
METHOD:PUBLISH
X-WR-CALNAME:First Baptist Church of Gibsonville North Carolina
X-ORIGINAL-URL:https://fbcgibsonville.org
X-WR-CALDESC:Events for First Baptist Church of Gibsonville North Carolina
REFRESH-INTERVAL;VALUE=DURATION:PT1H
X-Robots-Tag:noindex
X-PUBLISHED-TTL:PT1H
BEGIN:VTIMEZONE
TZID:UTC
BEGIN:STANDARD
TZOFFSETFROM:+0000
TZOFFSETTO:+0000
TZNAME:UTC
DTSTART:20250101T000000
END:STANDARD
END:VTIMEZONE
BEGIN:VEVENT
DTSTART;TZID=UTC:20260614T170000
DTEND;TZID=UTC:20260614T203000
DTSTAMP:20260426T033513
CREATED:20250327T184255Z
LAST-MODIFIED:20260313T141518Z
UID:16387-1781456400-1781469000@fbcgibsonville.org
SUMMARY:VACATION BIBLE SCHOOL  Monday 5:00-8:30PM Tuesday-Friday 5:30-8:30PM
DESCRIPTION:REGISTRATION COMING SOON!   \nVACATION BIBLE SCHOOL IS FOR AGES 4 YEARS OLD & UP / YOUTH & ADULTS!   THIS YEARS THEME IS “ILLUMINATION STATION”   “Shining a light on who JESUS really is!” \nJohn 8:12  “When Jesus spoke again to the people\, he said\, “I am the light of the world. Whoever follows me will never walk in darkness\, but will have the light of life” \nSUPPER WILL BE PROVIDED – SUNDAY (June 14   KICKOFF WILL BEGIN AT 5:00PM)  THURSDAY (June 18 COMMENCEMENT 5:30pm  Games & Pizza to follow) \n  \nCUT-OFF FOR ONLINE REGISTRATIONS WILL BE SUNDAY\, JUNE 17TH AT MIDNIGHT. \nYOU CAN STILL REGISTER AT VBS WHEN YOU COME – in person REGISTRATION WILL BE SUNDAY FROM 5 – 5:30pm
URL:https://fbcgibsonville.org/event/vacation-bible-school-500-830pm/
END:VEVENT
BEGIN:VEVENT
DTSTART;VALUE=DATE:20260709
DTEND;VALUE=DATE:20260720
DTSTAMP:20260426T033513
CREATED:20260313T143854Z
LAST-MODIFIED:20260313T143950Z
UID:16801-1783555200-1784505599@fbcgibsonville.org
SUMMARY:Mission Trip AFRICA
DESCRIPTION:SEE PASTOR JD  IF YOU WOULD LIKE TO HELP IN ANY WAY WITH THIS TRIP
URL:https://fbcgibsonville.org/event/mission-trip-western-nc/
END:VEVENT
END:VCALENDAR