BEGIN:VCALENDAR
VERSION:2.0
PRODID:-//First Baptist Church of Gibsonville North Carolina - ECPv6.15.18//NONSGML v1.0//EN
CALSCALE:GREGORIAN
METHOD:PUBLISH
X-WR-CALNAME:First Baptist Church of Gibsonville North Carolina
X-ORIGINAL-URL:https://fbcgibsonville.org
X-WR-CALDESC:Events for First Baptist Church of Gibsonville North Carolina
REFRESH-INTERVAL;VALUE=DURATION:PT1H
X-Robots-Tag:noindex
X-PUBLISHED-TTL:PT1H
BEGIN:VTIMEZONE
TZID:UTC
BEGIN:STANDARD
TZOFFSETFROM:+0000
TZOFFSETTO:+0000
TZNAME:UTC
DTSTART:20230101T000000
END:STANDARD
END:VTIMEZONE
BEGIN:VEVENT
DTSTART;TZID=UTC:20250504T180000
DTEND;TZID=UTC:20250504T180000
DTSTAMP:20260426T035203
CREATED:20250402T175930Z
LAST-MODIFIED:20250402T175930Z
UID:16408-1746381600-1746381600@fbcgibsonville.org
SUMMARY:DEACON'S MEETING
DESCRIPTION:Date was changed due to Missions Meeting \nDEACON’S MEETINGS ARE ON THE 1ST SUNDAY OF THE MONTH UNLESS THERE IS A NEED TO RESCHEDULE.
URL:https://fbcgibsonville.org/event/deacons-meeting-35/
END:VEVENT
BEGIN:VEVENT
DTSTART;TZID=UTC:20250504T170000
DTEND;TZID=UTC:20250504T170000
DTSTAMP:20260426T035203
CREATED:20250402T175906Z
LAST-MODIFIED:20250402T175906Z
UID:16407-1746378000-1746378000@fbcgibsonville.org
SUMMARY:LEADERSHIP TEAM MEETING
DESCRIPTION:Date changed due to Missions Meeting \nALL LEADERSHIP TEAM MEETINGS ARE ON THE 1ST SUNDAY OF EACH MONTH UNLESS RESCHEDULED. \n 
URL:https://fbcgibsonville.org/event/leadership-team-meeting-33/
END:VEVENT
BEGIN:VEVENT
DTSTART;TZID=UTC:20250504T140000
DTEND;TZID=UTC:20250504T160000
DTSTAMP:20260426T035203
CREATED:20250502T153050Z
LAST-MODIFIED:20250502T153050Z
UID:16457-1746367200-1746374400@fbcgibsonville.org
SUMMARY:Baby Shower
DESCRIPTION:Baby Shower for Morgan & Jordan Brown
URL:https://fbcgibsonville.org/event/baby-shower/
END:VEVENT
BEGIN:VEVENT
DTSTART;TZID=UTC:20250427T170000
DTEND;TZID=UTC:20250427T170000
DTSTAMP:20260426T035203
CREATED:20250402T174927Z
LAST-MODIFIED:20250402T174927Z
UID:16403-1745773200-1745773200@fbcgibsonville.org
SUMMARY:Mission Team Meeting
DESCRIPTION:Any questions see Pastor JD
URL:https://fbcgibsonville.org/event/mission-team-meeting/
END:VEVENT
BEGIN:VEVENT
DTSTART;TZID=UTC:20250420T091500
DTEND;TZID=UTC:20250420T113000
DTSTAMP:20260426T035203
CREATED:20220325T140037Z
LAST-MODIFIED:20250404T155451Z
UID:15871-1745140500-1745148600@fbcgibsonville.org
SUMMARY:Easter Sunday Schedule
DESCRIPTION:NO SUNDAY SCHOOL TODAY – \n9:15AM MEET IN THE FELLOWSHIP HALL FOR BREAKFAST – BRING YOUR FAVORITE BREAKFAST ITEMS TO SHARE! \n10:15AM WORSHIP MUSIC BEGINS
URL:https://fbcgibsonville.org/event/special-easter-service/
END:VEVENT
BEGIN:VEVENT
DTSTART;TZID=UTC:20250416T180000
DTEND;TZID=UTC:20250416T180000
DTSTAMP:20260426T035203
CREATED:20250225T162947Z
LAST-MODIFIED:20250225T162947Z
UID:16332-1744826400-1744826400@fbcgibsonville.org
SUMMARY:Quarterly Conference
DESCRIPTION:Quarterly Conference
URL:https://fbcgibsonville.org/event/quarterly-conference-12/
END:VEVENT
BEGIN:VEVENT
DTSTART;TZID=UTC:20250413T180000
DTEND;TZID=UTC:20250413T180000
DTSTAMP:20260426T035203
CREATED:20250314T174928Z
LAST-MODIFIED:20250314T174928Z
UID:16368-1744567200-1744567200@fbcgibsonville.org
SUMMARY:DEACON'S MEETING
DESCRIPTION:Date was changed due to Missions Meeting \nDEACON’S MEETINGS ARE ON THE 1ST SUNDAY OF THE MONTH UNLESS THERE IS A NEED TO RESCHEDULE.
URL:https://fbcgibsonville.org/event/deacons-meeting-34/
END:VEVENT
BEGIN:VEVENT
DTSTART;TZID=UTC:20250413T170000
DTEND;TZID=UTC:20250413T170000
DTSTAMP:20260426T035203
CREATED:20250314T174833Z
LAST-MODIFIED:20250314T174833Z
UID:16366-1744563600-1744563600@fbcgibsonville.org
SUMMARY:LEADERSHIP TEAM MEETING
DESCRIPTION:Date changed due to Missions Meeting \nALL LEADERSHIP TEAM MEETINGS ARE ON THE 1ST SUNDAY OF EACH MONTH UNLESS RESCHEDULED. \n 
URL:https://fbcgibsonville.org/event/leadership-team-meeting-32/
END:VEVENT
BEGIN:VEVENT
DTSTART;TZID=UTC:20250409T190000
DTEND;TZID=UTC:20250409T190000
DTSTAMP:20260426T035203
CREATED:20250327T181019Z
LAST-MODIFIED:20250327T181019Z
UID:16380-1744225200-1744225200@fbcgibsonville.org
SUMMARY:Personnel Committee Meeting
DESCRIPTION:
URL:https://fbcgibsonville.org/event/personnel-committee-meeting-2/
END:VEVENT
BEGIN:VEVENT
DTSTART;VALUE=DATE:20250406
DTEND;VALUE=DATE:20250407
DTSTAMP:20260426T035203
CREATED:20240307T184958Z
LAST-MODIFIED:20250214T135531Z
UID:16134-1743897600-1743983999@fbcgibsonville.org
SUMMARY:SPECIAL MUSIC WORSHIP SERVICE 10:30am & 4pm
DESCRIPTION:Two Services!  10:30am & 4:00pm  \nJoin us for a special service today from our Choir and other special music celebrating our Risen Savior! \n  \n  \n  \n 
URL:https://fbcgibsonville.org/event/easter-sunday-worship-1015am/
END:VEVENT
BEGIN:VEVENT
DTSTART;TZID=UTC:20250402T190000
DTEND;TZID=UTC:20250402T190000
DTSTAMP:20260426T035203
CREATED:20250327T181101Z
LAST-MODIFIED:20250327T181101Z
UID:16382-1743620400-1743620400@fbcgibsonville.org
SUMMARY:Youth Pastor Search Committee Meeting
DESCRIPTION:
URL:https://fbcgibsonville.org/event/youth-pastor-search-committee-meeting/
END:VEVENT
BEGIN:VEVENT
DTSTART;TZID=UTC:20250330T140000
DTEND;TZID=UTC:20250330T170000
DTSTAMP:20260426T035203
CREATED:20250225T162615Z
LAST-MODIFIED:20250225T162615Z
UID:16326-1743343200-1743354000@fbcgibsonville.org
SUMMARY:Special Choir Practice
DESCRIPTION:Special Choir practice in the Sanctuary for those participating in our Special Easter Music Services
URL:https://fbcgibsonville.org/event/special-choir-practice-2/
END:VEVENT
BEGIN:VEVENT
DTSTART;TZID=UTC:20250326T180000
DTEND;TZID=UTC:20250326T180000
DTSTAMP:20260426T035203
CREATED:20250225T162700Z
LAST-MODIFIED:20250225T162700Z
UID:16328-1743012000-1743012000@fbcgibsonville.org
SUMMARY:Special Choir Practice
DESCRIPTION:Special Choir practice in the Sanctuary for those participating in our Special Easter Music Services
URL:https://fbcgibsonville.org/event/special-choir-practice-3/
END:VEVENT
BEGIN:VEVENT
DTSTART;TZID=UTC:20250323T140000
DTEND;TZID=UTC:20250323T170000
DTSTAMP:20260426T035203
CREATED:20250225T162454Z
LAST-MODIFIED:20250225T162454Z
UID:16324-1742738400-1742749200@fbcgibsonville.org
SUMMARY:Special Choir Practice
DESCRIPTION:Special Choir practice in the Sanctuary for those participating in our Special Easter Music Services
URL:https://fbcgibsonville.org/event/special-choir-practice/
END:VEVENT
BEGIN:VEVENT
DTSTART;TZID=UTC:20250309T180000
DTEND;TZID=UTC:20250309T180000
DTSTAMP:20260426T035203
CREATED:20250131T154028Z
LAST-MODIFIED:20250131T154036Z
UID:16296-1741543200-1741543200@fbcgibsonville.org
SUMMARY:DEACON'S MEETING
DESCRIPTION:Date was changed due to Missions Meeting \nDEACON’S MEETINGS ARE ON THE 1ST SUNDAY OF THE MONTH UNLESS THERE IS A NEED TO RESCHEDULE.
URL:https://fbcgibsonville.org/event/deacons-meeting-33/
END:VEVENT
BEGIN:VEVENT
DTSTART;TZID=UTC:20250309T170000
DTEND;TZID=UTC:20250309T170000
DTSTAMP:20260426T035203
CREATED:20250131T154143Z
LAST-MODIFIED:20250131T154143Z
UID:16299-1741539600-1741539600@fbcgibsonville.org
SUMMARY:LEADERSHIP TEAM MEETING
DESCRIPTION:Date changed due to Missions Meeting \nALL LEADERSHIP TEAM MEETINGS ARE ON THE 1ST SUNDAY OF EACH MONTH UNLESS RESCHEDULED. \n 
URL:https://fbcgibsonville.org/event/leadership-team-meeting-31/
END:VEVENT
BEGIN:VEVENT
DTSTART;TZID=UTC:20250302T170000
DTEND;TZID=UTC:20250302T170000
DTSTAMP:20260426T035203
CREATED:20250131T153909Z
LAST-MODIFIED:20250214T134830Z
UID:16294-1740934800-1740934800@fbcgibsonville.org
SUMMARY:Missions Interest Meeting
DESCRIPTION:If you are interested in Missions we would love for you to come out to this informational meeting!
URL:https://fbcgibsonville.org/event/mission-ministry-meeting/
END:VEVENT
BEGIN:VEVENT
DTSTART;TZID=UTC:20250302T103000
DTEND;TZID=UTC:20250302T103000
DTSTAMP:20260426T035203
CREATED:20250131T153832Z
LAST-MODIFIED:20250214T134904Z
UID:16292-1740911400-1740911400@fbcgibsonville.org
SUMMARY:Missions Emphasis Sunday
DESCRIPTION:Guest Speaker:  Missionary Dr. David Kizziah
URL:https://fbcgibsonville.org/event/missions-emphasis-sunday/
END:VEVENT
BEGIN:VEVENT
DTSTART;TZID=UTC:20250216T113000
DTEND;TZID=UTC:20250216T113000
DTSTAMP:20260426T035203
CREATED:20250214T135854Z
LAST-MODIFIED:20250214T135854Z
UID:16319-1739705400-1739705400@fbcgibsonville.org
SUMMARY:Youth Girls Bible Study & Lunch
DESCRIPTION:Youth girls will meet immediately following our morning service for Lunch & Bible Study \nQuestions?  See Missy May
URL:https://fbcgibsonville.org/event/youth-girls-bible-study-lunch/
END:VEVENT
BEGIN:VEVENT
DTSTART;TZID=UTC:20250202T180000
DTEND;TZID=UTC:20250202T180000
DTSTAMP:20260426T035203
CREATED:20241016T140516Z
LAST-MODIFIED:20250131T153223Z
UID:16237-1738519200-1738519200@fbcgibsonville.org
SUMMARY:DEACON'S MEETING
DESCRIPTION:DEACON’S MEETINGS ARE ON THE 1ST SUNDAY OF THE MONTH UNLESS THERE IS A NEED TO RESCHEDULE.
URL:https://fbcgibsonville.org/event/deacons-meeting-32/
END:VEVENT
BEGIN:VEVENT
DTSTART;TZID=UTC:20250202T170000
DTEND;TZID=UTC:20250202T170000
DTSTAMP:20260426T035203
CREATED:20241016T140344Z
LAST-MODIFIED:20250131T153148Z
UID:16234-1738515600-1738515600@fbcgibsonville.org
SUMMARY:LEADERSHIP TEAM MEETING
DESCRIPTION:ALL LEADERSHIP TEAM MEETINGS ARE ON THE 1ST SUNDAY OF EACH MONTH UNLESS RESCHEDULED. \n 
URL:https://fbcgibsonville.org/event/leadership-team-meeting-30/
END:VEVENT
BEGIN:VEVENT
DTSTART;VALUE=DATE:20250124
DTEND;VALUE=DATE:20250127
DTSTAMP:20260426T035203
CREATED:20241211T160500Z
LAST-MODIFIED:20241211T160500Z
UID:16267-1737676800-1737935999@fbcgibsonville.org
SUMMARY:YOUTH SKI TRIP
DESCRIPTION:Check with youth leaders for more details…. \n 
URL:https://fbcgibsonville.org/event/youth-ski-trip/
END:VEVENT
BEGIN:VEVENT
DTSTART;TZID=UTC:20250119T170000
DTEND;TZID=UTC:20250119T170000
DTSTAMP:20260426T035203
CREATED:20250108T190614Z
LAST-MODIFIED:20250108T190614Z
UID:16277-1737306000-1737306000@fbcgibsonville.org
SUMMARY:Youth Pastor Search Team Meeting
DESCRIPTION:Team members contact Pastor JD for more information
URL:https://fbcgibsonville.org/event/youth-pastor-search-team-meeting/
END:VEVENT
BEGIN:VEVENT
DTSTART;TZID=UTC:20250115T180000
DTEND;TZID=UTC:20250115T180000
DTSTAMP:20260426T035203
CREATED:20250108T185923Z
LAST-MODIFIED:20250108T185923Z
UID:16273-1736964000-1736964000@fbcgibsonville.org
SUMMARY:NEW NIGHT!  Quarterly Conference
DESCRIPTION:Quarterly Conference – NEW NIGHT 6PM
URL:https://fbcgibsonville.org/event/new-night-quarterly-conference/
END:VEVENT
BEGIN:VEVENT
DTSTART;TZID=UTC:20250111T080000
DTEND;TZID=UTC:20250111T170000
DTSTAMP:20260426T035203
CREATED:20250109T163813Z
LAST-MODIFIED:20250109T163841Z
UID:16283-1736582400-1736614800@fbcgibsonville.org
SUMMARY:BRUNSWICK STEW POSTPONED - PICK UP WILL BE JANUARY 18
DESCRIPTION:DUE TO THE INCLEMENT WEATHER –
URL:https://fbcgibsonville.org/event/brunswick-stew-postponed-pick-up-will-be-january-18/
END:VEVENT
BEGIN:VEVENT
DTSTART;TZID=UTC:20241115T180000
DTEND;TZID=UTC:20241115T200000
DTSTAMP:20260426T035203
CREATED:20241016T141448Z
LAST-MODIFIED:20241016T141448Z
UID:16244-1731693600-1731700800@fbcgibsonville.org
SUMMARY:ANNUAL CHILI SUPPER - Downtown Lighting of the Green
DESCRIPTION:EACH YEAR WE PARTICIPATE WITH THE TOWN OF GIBSONVILLE’S LIGHTING OF THE GREEN.  DROP BY THE FELLOWSHIP HALL FOR A BOWL OF HOT CHILI BEANS!
URL:https://fbcgibsonville.org/event/annual-chili-supper-downtown-lighting-of-the-green/
END:VEVENT
BEGIN:VEVENT
DTSTART;TZID=UTC:20241107T090000
DTEND;TZID=UTC:20241107T150000
DTSTAMP:20260426T035203
CREATED:20241016T140929Z
LAST-MODIFIED:20241016T141001Z
UID:16241-1730970000-1730991600@fbcgibsonville.org
SUMMARY:Senior Adult Outing
DESCRIPTION:Fruitcake Factory – please let Mrs. Pat or the church office know if you are planning to attend.  Bring money for goodies & lunch in Siler City.
URL:https://fbcgibsonville.org/event/senior-adult-outing-4/
END:VEVENT
BEGIN:VEVENT
DTSTART;TZID=UTC:20241103T180000
DTEND;TZID=UTC:20241103T180000
DTSTAMP:20260426T035203
CREATED:20240516T153744Z
LAST-MODIFIED:20241016T140446Z
UID:16177-1730656800-1730656800@fbcgibsonville.org
SUMMARY:DEACON'S MEETING
DESCRIPTION:DEACON’S MEETINGS ARE ON THE 1ST SUNDAY OF THE MONTH UNLESS THERE IS A NEED TO RESCHEDULE.
URL:https://fbcgibsonville.org/event/deacons-meeting-30/
END:VEVENT
BEGIN:VEVENT
DTSTART;TZID=UTC:20241103T170000
DTEND;TZID=UTC:20241103T170000
DTSTAMP:20260426T035203
CREATED:20240516T153700Z
LAST-MODIFIED:20241016T140249Z
UID:16175-1730653200-1730653200@fbcgibsonville.org
SUMMARY:LEADERSHIP TEAM MEETING
DESCRIPTION:ALL LEADERSHIP TEAM MEETINGS ARE ON THE 1ST SUNDAY OF EACH MONTH UNLESS RESCHEDULED. \n 
URL:https://fbcgibsonville.org/event/leadership-team-meeting-28/
END:VEVENT
BEGIN:VEVENT
DTSTART;TZID=UTC:20241031T173000
DTEND;TZID=UTC:20241031T193000
DTSTAMP:20260426T035203
CREATED:20180823T142028Z
LAST-MODIFIED:20241016T140050Z
UID:15098-1730395800-1730403000@fbcgibsonville.org
SUMMARY:TRUNK OR TREAT
DESCRIPTION:EACH YEAR WE PARTNER WITH OTHER CHURCHES AND BUSINESSES IN OUR AREA TO HOST “TRUNK OR TREAT” – a safe and fun time for kids to trick or treat! \nAlso\, we will offer a free hotdog supper!! Make plans to join us!
URL:https://fbcgibsonville.org/event/trunk-or-treat/
END:VEVENT
END:VCALENDAR