BEGIN:VCALENDAR
VERSION:2.0
PRODID:-//First Baptist Church of Gibsonville North Carolina - ECPv6.15.18//NONSGML v1.0//EN
CALSCALE:GREGORIAN
METHOD:PUBLISH
X-WR-CALNAME:First Baptist Church of Gibsonville North Carolina
X-ORIGINAL-URL:https://fbcgibsonville.org
X-WR-CALDESC:Events for First Baptist Church of Gibsonville North Carolina
REFRESH-INTERVAL;VALUE=DURATION:PT1H
X-Robots-Tag:noindex
X-PUBLISHED-TTL:PT1H
BEGIN:VTIMEZONE
TZID:UTC
BEGIN:STANDARD
TZOFFSETFROM:+0000
TZOFFSETTO:+0000
TZNAME:UTC
DTSTART:20240101T000000
END:STANDARD
END:VTIMEZONE
BEGIN:VEVENT
DTSTART;TZID=UTC:20250504T140000
DTEND;TZID=UTC:20250504T160000
DTSTAMP:20260426T033315
CREATED:20250502T153050Z
LAST-MODIFIED:20250502T153050Z
UID:16457-1746367200-1746374400@fbcgibsonville.org
SUMMARY:Baby Shower
DESCRIPTION:Baby Shower for Morgan & Jordan Brown
URL:https://fbcgibsonville.org/event/baby-shower/
END:VEVENT
BEGIN:VEVENT
DTSTART;TZID=UTC:20250504T170000
DTEND;TZID=UTC:20250504T170000
DTSTAMP:20260426T033315
CREATED:20250402T175906Z
LAST-MODIFIED:20250402T175906Z
UID:16407-1746378000-1746378000@fbcgibsonville.org
SUMMARY:LEADERSHIP TEAM MEETING
DESCRIPTION:Date changed due to Missions Meeting \nALL LEADERSHIP TEAM MEETINGS ARE ON THE 1ST SUNDAY OF EACH MONTH UNLESS RESCHEDULED. \n 
URL:https://fbcgibsonville.org/event/leadership-team-meeting-33/
END:VEVENT
BEGIN:VEVENT
DTSTART;TZID=UTC:20250504T180000
DTEND;TZID=UTC:20250504T180000
DTSTAMP:20260426T033315
CREATED:20250402T175930Z
LAST-MODIFIED:20250402T175930Z
UID:16408-1746381600-1746381600@fbcgibsonville.org
SUMMARY:DEACON'S MEETING
DESCRIPTION:Date was changed due to Missions Meeting \nDEACON’S MEETINGS ARE ON THE 1ST SUNDAY OF THE MONTH UNLESS THERE IS A NEED TO RESCHEDULE.
URL:https://fbcgibsonville.org/event/deacons-meeting-35/
END:VEVENT
BEGIN:VEVENT
DTSTART;TZID=UTC:20250506T070000
DTEND;TZID=UTC:20250506T070000
DTSTAMP:20260426T033315
CREATED:20250502T152732Z
LAST-MODIFIED:20250502T152758Z
UID:16455-1746514800-1746514800@fbcgibsonville.org
SUMMARY:Teacher Appreciation @ EGMS 7am
DESCRIPTION:We will meet at 7am at Easter Guilford Middle School and serve doughnuts to the teachers for Teacher Appreciation Day
URL:https://fbcgibsonville.org/event/teacher-appreciation-egms-7am/
END:VEVENT
BEGIN:VEVENT
DTSTART;VALUE=DATE:20250511
DTEND;VALUE=DATE:20250512
DTSTAMP:20260426T033315
CREATED:20250502T153714Z
LAST-MODIFIED:20250502T153714Z
UID:16461-1746921600-1747007999@fbcgibsonville.org
SUMMARY:MOTHER'S DAY
DESCRIPTION:
URL:https://fbcgibsonville.org/event/mothers-day/
END:VEVENT
BEGIN:VEVENT
DTSTART;TZID=UTC:20250518T170000
DTEND;TZID=UTC:20250518T170000
DTSTAMP:20260426T033315
CREATED:20250422T161542Z
LAST-MODIFIED:20250422T161716Z
UID:16445-1747587600-1747587600@fbcgibsonville.org
SUMMARY:Security Team Meeting
DESCRIPTION:Meeting for all involved in our new Security Team….see Ronnie S. for more information
URL:https://fbcgibsonville.org/event/security-team-meeting-5pm/
END:VEVENT
BEGIN:VEVENT
DTSTART;TZID=UTC:20250522T180000
DTEND;TZID=UTC:20250522T180000
DTSTAMP:20260426T033315
CREATED:20250502T153421Z
LAST-MODIFIED:20250502T153613Z
UID:16459-1747936800-1747936800@fbcgibsonville.org
SUMMARY:KID'S MINISTRY MEETING @ HOPE CORNER
DESCRIPTION:This meeting will be at HOPE CORNER.  Meal will be served.  Anyone who is interested in working with our Kid’s Ministry please try to attend. \nQuestions?  Contact Franki Younger
URL:https://fbcgibsonville.org/event/kids-ministry-meeting-hope-corner/
END:VEVENT
BEGIN:VEVENT
DTSTART;TZID=UTC:20250525T170000
DTEND;TZID=UTC:20250525T210000
DTSTAMP:20260426T033315
CREATED:20250402T175246Z
LAST-MODIFIED:20250513T174810Z
UID:16405-1748192400-1748206800@fbcgibsonville.org
SUMMARY:SPRING FLING!
DESCRIPTION:JOIN US FOR FAMILY FUN\, MUSIC\, FOOD\, AND MORE! \nEVERYONE IS INVITED TO ATTEND!
URL:https://fbcgibsonville.org/event/spring-fling/
END:VEVENT
BEGIN:VEVENT
DTSTART;TZID=UTC:20250526T180000
DTEND;TZID=UTC:20250526T180000
DTSTAMP:20260426T033315
CREATED:20250520T154959Z
LAST-MODIFIED:20250520T154959Z
UID:16504-1748282400-1748282400@fbcgibsonville.org
SUMMARY:VBS Meeting & Meal
DESCRIPTION:This meeting is for everyone who is volunteering for VBS!  Your meal will be provided….Please try to be here if at all possible.  Contact Brandi if you have any questions.
URL:https://fbcgibsonville.org/event/vbs-meeting-meal/
END:VEVENT
BEGIN:VEVENT
DTSTART;TZID=UTC:20250527T093000
DTEND;TZID=UTC:20250527T093000
DTSTAMP:20260426T033315
CREATED:20250502T155128Z
LAST-MODIFIED:20250513T175056Z
UID:16471-1748338200-1748338200@fbcgibsonville.org
SUMMARY:SR. ADULT TRIP 9:30am
DESCRIPTION:WE WILL BE GOING TO WALNUT COVE – EATING LUNCH AT THE MILK BAR RESTAURANT & VISITING “JUST PLAIN COUNTRY STORE” has a little bit of everything! \nWe will be leaving church at 9:30am \nQUESTIONS?  See Pat Rudder
URL:https://fbcgibsonville.org/event/sr-adult-trip-930am/
END:VEVENT
END:VCALENDAR