BEGIN:VCALENDAR
VERSION:2.0
PRODID:-//First Baptist Church of Gibsonville North Carolina - ECPv6.15.18//NONSGML v1.0//EN
CALSCALE:GREGORIAN
METHOD:PUBLISH
X-ORIGINAL-URL:https://fbcgibsonville.org
X-WR-CALDESC:Events for First Baptist Church of Gibsonville North Carolina
REFRESH-INTERVAL;VALUE=DURATION:PT1H
X-Robots-Tag:noindex
X-PUBLISHED-TTL:PT1H
BEGIN:VTIMEZONE
TZID:UTC
BEGIN:STANDARD
TZOFFSETFROM:+0000
TZOFFSETTO:+0000
TZNAME:UTC
DTSTART:20240101T000000
END:STANDARD
END:VTIMEZONE
BEGIN:VEVENT
DTSTART;VALUE=DATE:20250707
DTEND;VALUE=DATE:20250708
DTSTAMP:20260426T011255
CREATED:20250520T155742Z
LAST-MODIFIED:20250520T173721Z
UID:16508-1751846400-1751932799@fbcgibsonville.org
SUMMARY:YOUTH CAMP REGISTER & PAY
DESCRIPTION:CROSSROADS YOUTH CAMP REGISTRATION \n \n  \n  \n  \nQUESTIONS?  See Missy May or JD Weed \nPAYMENT OPTION SCAN QR CODE
URL:https://fbcgibsonville.org/event/youth-camp-4/
END:VEVENT
BEGIN:VEVENT
DTSTART;TZID=UTC:20250726T083000
DTEND;TZID=UTC:20250726T083000
DTSTAMP:20260426T011255
CREATED:20250131T153546Z
LAST-MODIFIED:20250624T180327Z
UID:16289-1753518600-1753518600@fbcgibsonville.org
SUMMARY:Men's Breakfast
DESCRIPTION:Join us for our Men’s Breakfast in the fellowship hall for a great time of fellowship…If you are planning to help cook please arrive at 7:30am \nQUESTIONS?  Contact Bill Howerton or the church office.
URL:https://fbcgibsonville.org/event/mens-breakfast-2/
END:VEVENT
BEGIN:VEVENT
DTSTART;TZID=UTC:20250730T180000
DTEND;TZID=UTC:20250730T180000
DTSTAMP:20260426T011255
CREATED:20240418T150750Z
LAST-MODIFIED:20250624T180806Z
UID:16147-1753898400-1753898400@fbcgibsonville.org
SUMMARY:Family Night with the Burlington Sock Puppets
DESCRIPTION:We will be heading out to the ballgame around 6:00pm.  We will meet at the church then head to the ballfield for all you can eat Hotdogs\, Cheeseburgers\, Chicken Sandwiches\,  Chips\, Popcorn & Beverages!  Please sign up in the bulletin or contact the church office if you are planning to attend.  Your cost $10 per person.  See JD if you need assistance.
URL:https://fbcgibsonville.org/event/family-night-with-the-burlington-sock-puppets/
END:VEVENT
END:VCALENDAR