BEGIN:VCALENDAR
VERSION:2.0
PRODID:-//First Baptist Church of Gibsonville North Carolina - ECPv6.15.18//NONSGML v1.0//EN
CALSCALE:GREGORIAN
METHOD:PUBLISH
X-ORIGINAL-URL:https://fbcgibsonville.org
X-WR-CALDESC:Events for First Baptist Church of Gibsonville North Carolina
REFRESH-INTERVAL;VALUE=DURATION:PT1H
X-Robots-Tag:noindex
X-PUBLISHED-TTL:PT1H
BEGIN:VTIMEZONE
TZID:UTC
BEGIN:STANDARD
TZOFFSETFROM:+0000
TZOFFSETTO:+0000
TZNAME:UTC
DTSTART:20240101T000000
END:STANDARD
END:VTIMEZONE
BEGIN:VEVENT
DTSTART;TZID=UTC:20251203T183000
DTEND;TZID=UTC:20251203T200000
DTSTAMP:20260425T185233
CREATED:20250925T135237Z
LAST-MODIFIED:20250925T135237Z
UID:16661-1764786600-1764792000@fbcgibsonville.org
SUMMARY:Special Choir Practice
DESCRIPTION:Special Choir practice in the Sanctuary for those participating in our Special Christmas Music Services
URL:https://fbcgibsonville.org/event/special-choir-practice-8/
END:VEVENT
BEGIN:VEVENT
DTSTART;VALUE=DATE:20251207
DTEND;VALUE=DATE:20251208
DTSTAMP:20260425T185233
CREATED:20221013T164147Z
LAST-MODIFIED:20251016T144439Z
UID:15951-1765065600-1765151999@fbcgibsonville.org
SUMMARY:CHRISTMAS CANTATA 10:30AM & 4PM
DESCRIPTION:THE CHOIR CHRISTMAS MUSICAL “It’s A Story (A Good Story)”  WILL BE HELD AT \n10:30 AM & 4:00 PM
URL:https://fbcgibsonville.org/event/christmas-cantata-2/
END:VEVENT
BEGIN:VEVENT
DTSTART;TZID=UTC:20251214T103000
DTEND;TZID=UTC:20251214T103000
DTSTAMP:20260425T185233
CREATED:20221013T164059Z
LAST-MODIFIED:20251016T144842Z
UID:15949-1765708200-1765708200@fbcgibsonville.org
SUMMARY:CHILDREN'S CHRISTMAS PROGRAM
DESCRIPTION:Join us for our Children’s Christmas Program
URL:https://fbcgibsonville.org/event/childrens-christmas-program/
END:VEVENT
BEGIN:VEVENT
DTSTART;TZID=UTC:20251217T180000
DTEND;TZID=UTC:20251217T190000
DTSTAMP:20260425T185233
CREATED:20201202T134959Z
LAST-MODIFIED:20251210T183325Z
UID:15575-1765994400-1765998000@fbcgibsonville.org
SUMMARY:Silent Lord's Supper Service
DESCRIPTION:
URL:https://fbcgibsonville.org/event/silent-lords-supper-service-2/
END:VEVENT
BEGIN:VEVENT
DTSTART;VALUE=DATE:20251227
DTEND;VALUE=DATE:20251230
DTSTAMP:20260425T185233
CREATED:20251210T183616Z
LAST-MODIFIED:20251210T183616Z
UID:16702-1766793600-1767052799@fbcgibsonville.org
SUMMARY:YOUTH XTREME WINTER CONFERENCE - GATLINBURG
DESCRIPTION:SEE MISSY MAY FOR DETAILS
URL:https://fbcgibsonville.org/event/youth-xtreme-winter-conference-gatlinburg/
END:VEVENT
END:VCALENDAR