BEGIN:VCALENDAR
VERSION:2.0
PRODID:-//First Baptist Church of Gibsonville North Carolina - ECPv6.15.18//NONSGML v1.0//EN
CALSCALE:GREGORIAN
METHOD:PUBLISH
X-WR-CALNAME:First Baptist Church of Gibsonville North Carolina
X-ORIGINAL-URL:https://fbcgibsonville.org
X-WR-CALDESC:Events for First Baptist Church of Gibsonville North Carolina
REFRESH-INTERVAL;VALUE=DURATION:PT1H
X-Robots-Tag:noindex
X-PUBLISHED-TTL:PT1H
BEGIN:VTIMEZONE
TZID:UTC
BEGIN:STANDARD
TZOFFSETFROM:+0000
TZOFFSETTO:+0000
TZNAME:UTC
DTSTART:20250101T000000
END:STANDARD
END:VTIMEZONE
BEGIN:VEVENT
DTSTART;TZID=UTC:20260503T120000
DTEND;TZID=UTC:20260503T120000
DTSTAMP:20260425T150212
CREATED:20250327T181457Z
LAST-MODIFIED:20260410T172913Z
UID:16384-1777809600-1777809600@fbcgibsonville.org
SUMMARY:VBS Volunteer Meeting
DESCRIPTION:All those wanting to volunteer to help with VBS this year (June 14-18) please attend this important meeting.   Lunch will be provided. \nQuestions?  See Brandi Weed
URL:https://fbcgibsonville.org/event/vbs-volunteer-meeting/
END:VEVENT
BEGIN:VEVENT
DTSTART;TZID=UTC:20260503T173000
DTEND;TZID=UTC:20260503T173000
DTSTAMP:20260425T150212
CREATED:20260410T173133Z
LAST-MODIFIED:20260410T173133Z
UID:16989-1777829400-1777829400@fbcgibsonville.org
SUMMARY:SPECIAL CELEBRATION "Cherry On Top"
DESCRIPTION:ICE CREAM PARTY C!  Come out and join us as we celebrate with Dr. J.D Weed!!
URL:https://fbcgibsonville.org/event/special-celebration-cherry-on-top/
END:VEVENT
BEGIN:VEVENT
DTSTART;TZID=UTC:20260507T100000
DTEND;TZID=UTC:20260507T120000
DTSTAMP:20260425T150212
CREATED:20260220T144512Z
LAST-MODIFIED:20260220T152411Z
UID:16757-1778148000-1778155200@fbcgibsonville.org
SUMMARY:Sorting Day at Hope Corner
DESCRIPTION:The first Thursday of every month we are meeting at HOPE  CORNER to sort and fold clothing.   If you are interested please call the church office.
URL:https://fbcgibsonville.org/event/sorting-day-at-hope-corner/
LOCATION:HOPE CORNER FOOD PANTRY / CLOTHING CLOSET   9-11am\, 103 Burlington Ave.\, Gibsonville\, 27249\, United States
END:VEVENT
BEGIN:VEVENT
DTSTART;TZID=UTC:20260514T173000
DTEND;TZID=UTC:20260514T173000
DTSTAMP:20260425T150212
CREATED:20250225T163405Z
LAST-MODIFIED:20260313T144404Z
UID:16334-1778779800-1778779800@fbcgibsonville.org
SUMMARY:Women's Covered Dish @ Moricle Park
DESCRIPTION:All Ladies are invited to join us as the Circle Groups host a covered dish picnic at the park.  Please contact the church office if you have any questions.
URL:https://fbcgibsonville.org/event/womens-covered-dish-moricle-park/
END:VEVENT
BEGIN:VEVENT
DTSTART;TZID=UTC:20260531T103000
DTEND;TZID=UTC:20260531T103000
DTSTAMP:20260425T150212
CREATED:20250608T024617Z
LAST-MODIFIED:20260313T144519Z
UID:16560-1780223400-1780223400@fbcgibsonville.org
SUMMARY:Graduation Sunday
DESCRIPTION:Graduates will be recognized during our morning service.
URL:https://fbcgibsonville.org/event/graduation-sunday-2/
END:VEVENT
END:VCALENDAR